BEGIN:VCALENDAR
VERSION:2.0
PRODID:-//SafeFire - ECPv6.15.20//NONSGML v1.0//EN
CALSCALE:GREGORIAN
METHOD:PUBLISH
X-WR-CALNAME:SafeFire
X-ORIGINAL-URL:https://www.shootatsafefire.com
X-WR-CALDESC:Events for SafeFire
REFRESH-INTERVAL;VALUE=DURATION:PT1H
X-Robots-Tag:noindex
X-PUBLISHED-TTL:PT1H
BEGIN:VTIMEZONE
TZID:UTC
BEGIN:STANDARD
TZOFFSETFROM:+0000
TZOFFSETTO:+0000
TZNAME:UTC
DTSTART:20240101T000000
END:STANDARD
END:VTIMEZONE
BEGIN:VEVENT
DTSTART;TZID=UTC:20250712T100000
DTEND;TZID=UTC:20250712T160000
DTSTAMP:20260425T165119
CREATED:20250402T211418Z
LAST-MODIFIED:20250402T211424Z
UID:2468-1752314400-1752336000@www.shootatsafefire.com
SUMMARY:staccato showcase
DESCRIPTION:Staccato Showcase: A Day with Oregon Rifleworks at Safefire Indoor Shooting Range \n\n\n\nJoin us for an exclusive experience you won’t want to miss! \n\n\n\nOn July 12th\, Safefire Indoor Shooting Range is partnering with Oregon Rifleworks to bring you the Staccato Showcase — a day dedicated to showcasing the world-renowned Staccato firearms! Whether you’re a seasoned shooter or a first-timer\, this event gives you a unique opportunity to get up close and personal with some of the finest firearms on the market. \n\n\n\nWhat’s in store? \n\n\n\n\nMeet the Experts: Our Staccato representative will be here\, ready to answer all your questions\, give expert advice\, and share insider knowledge about what makes Staccato firearms so exceptional.\n\n\n\nHands-On Demo: Test out Staccato’s line of premium firearms in our exclusive Platinum Bay! There’s no better way to experience their precision and performance than by getting your hands on them and firing at the range. This is your chance to shoot some of the best firearms available.\n\n\n\nExclusive Deals: We’re offering special discounts just for you!\n\nBuy a Staccato and get 15% off all accessories.\n\n\n\nDiscounts on all Staccato models\n\n\n\n\n\nStaccato Giveaway: Win a brand new Staccato firearm! Enter for your chance to walk away with your very own Staccato — you don’t want to miss this!\n\n\n\n\nEvent Details: \n\n\n\n\nDate: Saturday\, July 12th\, 2025\n\n\n\nTime: 10am – 4pm\n\n\n\nLocation: Safefire Indoor Shooting Range\, [Address]\n\n\n\n\nWhy Staccato? Staccato firearms are renowned for their accuracy\, reliability\, and smooth shooting experience. Whether you’re looking for a firearm for personal protection\, competition\, or pure enjoyment\, Staccato’s innovative design and craftsmanship stand out from the rest. Come see for yourself why they’re loved by professional shooters and enthusiasts alike.
URL:https://www.shootatsafefire.com/event/staccato-showcase/
LOCATION:Washington
END:VEVENT
BEGIN:VEVENT
DTSTART;TZID=UTC:20250718T100000
DTEND;TZID=UTC:20250718T190000
DTSTAMP:20260425T165119
CREATED:20250110T222355Z
LAST-MODIFIED:20250110T222359Z
UID:2356-1752832800-1752865200@www.shootatsafefire.com
SUMMARY:July Date Night
DESCRIPTION:Looking for a way to spice up your usual date night? On select Fridays every month\, we host our own version of date night! Our Date Night package is available all day with no reservations needed. Bring your spouse\, best friend\, or family member for a night you won’t forget! \nOur Date Night Package Includes*:– A lane to share (1hour)– 2 targets of your choice\n– Rental eye and ear protection\n– A firearm rental to share*\n*Ammo not included. If using SafeFire rental firearms\, ammo must be purchased through SafeFire. \nNo need to sign up! Just drop by on one of the following dates and tell our cashiers that you’d like to purchase a Date Night Package! 
URL:https://www.shootatsafefire.com/event/date-night-5/
LOCATION:Washington
CATEGORIES:Date Night
ATTACH;FMTTYPE=image/png:https://www.shootatsafefire.com/wp-content/uploads/2023/10/Date-Night-1-e1698192466139.png
END:VEVENT
END:VCALENDAR