BEGIN:VCALENDAR
VERSION:2.0
PRODID:-//SafeFire - ECPv6.15.20//NONSGML v1.0//EN
CALSCALE:GREGORIAN
METHOD:PUBLISH
X-ORIGINAL-URL:https://www.shootatsafefire.com
X-WR-CALDESC:Events for SafeFire
REFRESH-INTERVAL;VALUE=DURATION:PT1H
X-Robots-Tag:noindex
X-PUBLISHED-TTL:PT1H
BEGIN:VTIMEZONE
TZID:UTC
BEGIN:STANDARD
TZOFFSETFROM:+0000
TZOFFSETTO:+0000
TZNAME:UTC
DTSTART:20240101T000000
END:STANDARD
END:VTIMEZONE
BEGIN:VEVENT
DTSTART;TZID=UTC:20250515T080000
DTEND;TZID=UTC:20250515T160000
DTSTAMP:20260425T200524
CREATED:20250128T202150Z
LAST-MODIFIED:20250128T202157Z
UID:2373-1747296000-1747324800@www.shootatsafefire.com
SUMMARY:Glock Armorer Course
DESCRIPTION:Ready to take your knowledge of GLOCK pistols to the next level? SafeFire is excited to host the highly sought-after Glock Armorers Course – an exclusive opportunity for those in law enforcement\, military\, private security\, and GSSF members to learn the ins and outs of one of the most reliable firearms on the marketWhy take this course?This intensive hands-on training will give you the skills to confidently maintain\, troubleshoot\, and service both Gen5 and previous GLOCK models. Whether you’re looking to expand your personal expertise or improve the serviceability of GLOCKs in your department\, this course is packed with valuable content.Course Highlights:Field Stripping & Disassembly – Master how to break down your GLOCK for inspection and maintenance.Frame & Slide Options – Understand all the components that make up the heart of your pistol.Preventive Maintenance & Lubrication – Keep your GLOCK in peak condition with the right care.Practical & Written Exams – Prove your skills through hands-on training and a comprehensive exam.Eligibility Requirements:Active/Retired Law Enforcement or MilitaryPrivate Security PersonnelGLOCK Stocking Dealer/Range Program EmployeeCurrent GSSF MemberBy the end of this course\, you’ll not only be equipped to handle any maintenance or troubleshooting tasks\, but you’ll also gain a deep understanding of the GLOCK Safe Action System. Plus\, you’ll leave with the distinction of being a certified GLOCK Armorer\, able to service your firearm with confidence.Date: Thursday\, May 15\, 2025 8amLocation: SafeFire Indoor Shooting Range – 4857 NW Lake Rd Suite 210 Camas\, WA 98607Price: $300
URL:https://www.shootatsafefire.com/event/glock-armorer-course/
LOCATION:SafeFire Indoor Shooting Range\, 4857 NW Lake Rd Suite 210\, Camas\, Washington\, 98607
ATTACH;FMTTYPE=image/jpeg:https://www.shootatsafefire.com/wp-content/uploads/2025/01/maxresdefault.jpg
ORGANIZER;CN="Glock":MAILTO:training@glock.us
END:VEVENT
BEGIN:VEVENT
DTSTART;TZID=UTC:20250516T100000
DTEND;TZID=UTC:20250516T190000
DTSTAMP:20260425T200524
CREATED:20231025T054425Z
LAST-MODIFIED:20250110T221534Z
UID:1018-1747389600-1747422000@www.shootatsafefire.com
SUMMARY:May Date Night
DESCRIPTION:Looking for a way to spice up your usual date night? On select Fridays every month\, we host our own version of date night! Our Date Night package is available all day with no reservations needed. Bring your spouse\, best friend\, or family member for a night you won’t forget! \n \nOur Date Night Package Includes*:– A lane to share (1hour)– 2 targets of your choice\n– Rental eye and ear protection\n– A firearm rental to share*\n*Ammo not included. If using SafeFire rental firearms\, ammo must be purchased through SafeFire. \n \nNo need to sign up! Just drop by on one of the following dates and tell our cashiers that you’d like to purchase a Date Night Package! 
URL:https://www.shootatsafefire.com/event/date-night-2/
LOCATION:Washington
CATEGORIES:Date Night
ATTACH;FMTTYPE=image/png:https://www.shootatsafefire.com/wp-content/uploads/2023/10/Date-Night-1-e1698192466139.png
END:VEVENT
END:VCALENDAR