BEGIN:VCALENDAR
VERSION:2.0
PRODID:-//SafeFire - ECPv6.15.20//NONSGML v1.0//EN
CALSCALE:GREGORIAN
METHOD:PUBLISH
X-WR-CALNAME:SafeFire
X-ORIGINAL-URL:https://www.shootatsafefire.com
X-WR-CALDESC:Events for SafeFire
REFRESH-INTERVAL;VALUE=DURATION:PT1H
X-Robots-Tag:noindex
X-PUBLISHED-TTL:PT1H
BEGIN:VTIMEZONE
TZID:UTC
BEGIN:STANDARD
TZOFFSETFROM:+0000
TZOFFSETTO:+0000
TZNAME:UTC
DTSTART:20240101T000000
END:STANDARD
END:VTIMEZONE
BEGIN:VEVENT
DTSTART;TZID=UTC:20250412T150000
DTEND;TZID=UTC:20250412T180000
DTSTAMP:20260425T213935
CREATED:20250128T215955Z
LAST-MODIFIED:20250128T215955Z
UID:2381-1744470000-1744480800@www.shootatsafefire.com
SUMMARY:Easter Egg Blast
DESCRIPTION:Prepare for a different kind of Easter Egg hunt this year… \n\n\n\nJoin us in this double elimination style competition and see who can shoot down their suspended plastic eggs first! This fast paced competition is perfect for all skill levels. Top three competitors will each win a SafeFire giftcard of different values. \n\n\n\n*Competitors MUST arrive by 3:15 for a mandatory safety briefing. Competitors who do not attend the safety briefing will not be allowed to compete and will not receive a refund. \n\n\n\nWhat you’ll need: \n\n\n\nExtra magazine recommended \n\n\n\nDrivers License / ID (parent/guardian if minor) \n\n\n\nHandgun of your choice \n\n\n\n100 rds of ammo recommended. Ammo is available for purchase at our range counter.
URL:https://www.shootatsafefire.com/event/easter-egg-blast/
LOCATION:SafeFire Indoor Shooting Range\, 4857 NW Lake Rd Suite 210\, Camas\, Washington\, 98607
END:VEVENT
BEGIN:VEVENT
DTSTART;TZID=UTC:20250418T100000
DTEND;TZID=UTC:20250418T190000
DTSTAMP:20260425T213935
CREATED:20240311T154927Z
LAST-MODIFIED:20250110T221354Z
UID:1828-1744970400-1745002800@www.shootatsafefire.com
SUMMARY:April Date Night
DESCRIPTION:Looking for a way to spice up your usual date night? On select Fridays every month\, we host our own version of date night! Our Date Night package is available all day with no reservations needed. Bring your spouse\, best friend\, or family member for a night you won’t forget! \n\n\n\n\n\n\n\nOur Date Night Package Includes*:– A lane to share (1/hour) \n\n\n\n– 2 targets of your choice \n\n\n\n– A firearm rental to share* \n\n\n\n– Rental eye and ear protection \n\n\n\n*Ammo not included. If using SafeFire rental firearms\, ammo must be purchased through SafeFire
URL:https://www.shootatsafefire.com/event/date-night-3/
LOCATION:Washington
ATTACH;FMTTYPE=image/png:https://www.shootatsafefire.com/wp-content/uploads/2023/10/Date-Night-1-e1698192466139.png
END:VEVENT
END:VCALENDAR