BEGIN:VCALENDAR
VERSION:2.0
PRODID:-//SafeFire - ECPv6.15.20//NONSGML v1.0//EN
CALSCALE:GREGORIAN
METHOD:PUBLISH
X-WR-CALNAME:SafeFire
X-ORIGINAL-URL:https://www.shootatsafefire.com
X-WR-CALDESC:Events for SafeFire
REFRESH-INTERVAL;VALUE=DURATION:PT1H
X-Robots-Tag:noindex
X-PUBLISHED-TTL:PT1H
BEGIN:VTIMEZONE
TZID:UTC
BEGIN:STANDARD
TZOFFSETFROM:+0000
TZOFFSETTO:+0000
TZNAME:UTC
DTSTART:20230101T000000
END:STANDARD
END:VTIMEZONE
BEGIN:VEVENT
DTSTART;TZID=UTC:20250222T150000
DTEND;TZID=UTC:20250222T180000
DTSTAMP:20260425T153407
CREATED:20250128T203238Z
LAST-MODIFIED:20250206T220535Z
UID:2378-1740236400-1740247200@www.shootatsafefire.com
SUMMARY:Hostage Bowling Pin Shoot
DESCRIPTION:A classic competition with a SafeFire twist! \n\n\n\nA double-elimination tournament where centerfire and rimfire handgun shooters compete against each other head to head in pairs shooting at 6 white target pins and 2 penalty (or hostage) pins at a distance of 35 feet. \n\n\n\nThe first competitor to shoot all the target pins off his rack (or is ahead after 30 seconds) wins the round. The winner of each round advances forward in the winner’s bracket and the loser moves to the loser’s bracket\, allowing each competitor to lose twice before being eliminated from the competition. \n\n\n\nFirearm: Handgun ONLY\, no caliber limitation \n\n\n\nAge Restriction: >14 years old\, 22 caliber only. 16+ years old no restriction. \n\n\n\nFirst Place: $75 SaferFire Gift CardSecond Place: $50 SafeFire Gift CardThird Place: $25 SafeFire Gift Card \n\n\n\nCompetitors MUST arrive on time to attend a quick briefing on competition rules and regulations. Late arrivals will not be allowed to shoot and will not receive a refund.
URL:https://www.shootatsafefire.com/event/hostage-bowling-pin-shoot/
LOCATION:SafeFire Indoor Shooting Range\, 4857 NW Lake Rd Suite 210\, Camas\, Washington\, 98607
CATEGORIES:Competition
ATTACH;FMTTYPE=image/jpeg:https://www.shootatsafefire.com/wp-content/uploads/2024/02/1Q6A1190-scaled.jpg
END:VEVENT
BEGIN:VEVENT
DTSTART;TZID=UTC:20250214T100000
DTEND;TZID=UTC:20250214T190000
DTSTAMP:20260425T153407
CREATED:20250110T215104Z
LAST-MODIFIED:20250128T204915Z
UID:2349-1739527200-1739559600@www.shootatsafefire.com
SUMMARY:Valentine's Day Date Night
DESCRIPTION:Looking to add a spark to your Valentine’s Day plans? SafeFire’s Valentine’s Day Date Night is the perfect way to share a fun and exciting experience with your special someone! On February 14th\, we’re offering a one-of-a-kind Date Night package designed to make this day unforgettable. Whether you’re celebrating with a spouse\, partner\, best friend\, or even a family member\, our Date Night is the ideal way to connect\, have fun\, and create lasting memories. \n\n\n\nWhat’s Included in the $50 Valentine’s Day Date Night Package: – A lane to share for 1 hour– 2 targets of your choice (Valentine’s-themed targets included at no extra charge!)– Rental eye and ear protection– A firearm rental to share**Ammo not included. If using SafeFire rental firearms\, ammo must be purchased through SafeFire. \n\n\n\nNo Reservations Needed!Just drop by on February 14th and tell our cashiers you’d like to purchase the Valentine’s Day Date Night Package. It’s first come\, first served\, so feel free to pop in whenever works best for you. \n\n\n\nCelebrate love\, laughter\, and a little friendly competition this Valentine’s Day at SafeFire! 💘
URL:https://www.shootatsafefire.com/event/valentines-day-date-night/
LOCATION:SafeFire Indoor Shooting Range\, 4857 NW Lake Rd Suite 210\, Camas\, Washington\, 98607
CATEGORIES:Date Night
ATTACH;FMTTYPE=image/jpeg:https://www.shootatsafefire.com/wp-content/uploads/2024/01/PG6211939-5F8C4CA4-25AE-431A-ADEE-AD4140F3B9AB-e1705946957955.jpg
END:VEVENT
BEGIN:VEVENT
DTSTART;TZID=UTC:20241221T150000
DTEND;TZID=UTC:20241221T190000
DTSTAMP:20260425T153407
CREATED:20231031T185822Z
LAST-MODIFIED:20241206T224755Z
UID:1109-1734793200-1734807600@www.shootatsafefire.com
SUMMARY:Seventh Annual Ornament Shoot
DESCRIPTION:Our most popular competition of the year! Join us for our classic Ornament Shoot. In this double-elimination tournament\, centerfire and rimfire handgun shooters compete against each other head to head in pairs shooting at 7 glass ornaments of various sizes attached to a wreath at a distance of 35 feet. \n\n\n\nThe competitor that shoots (breaks) all of the glass ornaments (or is ahead after 30 seconds) wins the round and advances forward in the winner’s bracket. The loser of the round moves to the loser’s bracket\, allowing each competitor to lose twice before being eliminated from the competition. \n\n\n\nFirearm: Handgun only\, no caliber limitation \n\n\n\nAge Restriction: >14 years old\, 22 caliber only. 16+ years old no restriction \n\n\n\nFirst Place: Case of 9mm Ammo ($271.99 Value)Second Place: $100 SafeFire Gift CardThird Place: $50 SafeFire Gift Card
URL:https://www.shootatsafefire.com/event/handgun-competition/
LOCATION:SafeFire Indoor Shooting Range\, 4857 NW Lake Rd Suite 210\, Camas\, Washington\, 98607
CATEGORIES:Competition
ATTACH;FMTTYPE=image/jpeg:https://www.shootatsafefire.com/wp-content/uploads/2023/12/1Q6A4765.jpg
END:VEVENT
BEGIN:VEVENT
DTSTART;TZID=UTC:20241220T100000
DTEND;TZID=UTC:20241220T190000
DTSTAMP:20260425T153407
CREATED:20240311T164507Z
LAST-MODIFIED:20240823T175803Z
UID:1841-1734688800-1734721200@www.shootatsafefire.com
SUMMARY:December Date Night
DESCRIPTION:Looking for a way to spice up your usual date night? On select Fridays every month\, we host our own version of date night by offering an exclusive package for two at a discounted rate! Our Date Night package is available all day – with no reservations needed. Bring your spouse\, best friend\, or family member (or anyone\, really!) for a night you won’t forget!  \n\n\n\nDate Night Package Includes: \n\n\n\n-A lane to share \n\n\n\n– 2 targets of your choice \n\n\n\n-Rental ear and eye protection \n\n\n\n-A firearm rental to share \n\n\n\n*Ammo not included. If using SafeFire rental firearms\, ammo must be purchased through SafeFire. \n\n\n\n \n\n\n\nDrop on by during a scheduled Date Night and tell our cashiers that you’d like to purchase our Date Night package!
URL:https://www.shootatsafefire.com/event/date-night-4/
END:VEVENT
END:VCALENDAR