BEGIN:VCALENDAR
VERSION:2.0
PRODID:-//SafeFire - ECPv6.15.20//NONSGML v1.0//EN
CALSCALE:GREGORIAN
METHOD:PUBLISH
X-WR-CALNAME:SafeFire
X-ORIGINAL-URL:https://www.shootatsafefire.com
X-WR-CALDESC:Events for SafeFire
REFRESH-INTERVAL;VALUE=DURATION:PT1H
X-Robots-Tag:noindex
X-PUBLISHED-TTL:PT1H
BEGIN:VTIMEZONE
TZID:UTC
BEGIN:STANDARD
TZOFFSETFROM:+0000
TZOFFSETTO:+0000
TZNAME:UTC
DTSTART:20230101T000000
END:STANDARD
END:VTIMEZONE
BEGIN:VEVENT
DTSTART;TZID=UTC:20241220T100000
DTEND;TZID=UTC:20241220T190000
DTSTAMP:20260426T023201
CREATED:20240311T164507Z
LAST-MODIFIED:20240823T175803Z
UID:1841-1734688800-1734721200@www.shootatsafefire.com
SUMMARY:December Date Night
DESCRIPTION:Looking for a way to spice up your usual date night? On select Fridays every month\, we host our own version of date night by offering an exclusive package for two at a discounted rate! Our Date Night package is available all day – with no reservations needed. Bring your spouse\, best friend\, or family member (or anyone\, really!) for a night you won’t forget!  \n\n\n\nDate Night Package Includes: \n\n\n\n-A lane to share \n\n\n\n– 2 targets of your choice \n\n\n\n-Rental ear and eye protection \n\n\n\n-A firearm rental to share \n\n\n\n*Ammo not included. If using SafeFire rental firearms\, ammo must be purchased through SafeFire. \n\n\n\n \n\n\n\nDrop on by during a scheduled Date Night and tell our cashiers that you’d like to purchase our Date Night package!
URL:https://www.shootatsafefire.com/event/date-night-4/
END:VEVENT
END:VCALENDAR