BEGIN:VCALENDAR
VERSION:2.0
PRODID:-//SafeFire - ECPv6.15.20//NONSGML v1.0//EN
CALSCALE:GREGORIAN
METHOD:PUBLISH
X-ORIGINAL-URL:https://www.shootatsafefire.com
X-WR-CALDESC:Events for SafeFire
REFRESH-INTERVAL;VALUE=DURATION:PT1H
X-Robots-Tag:noindex
X-PUBLISHED-TTL:PT1H
BEGIN:VTIMEZONE
TZID:UTC
BEGIN:STANDARD
TZOFFSETFROM:+0000
TZOFFSETTO:+0000
TZNAME:UTC
DTSTART:20250101T000000
END:STANDARD
END:VTIMEZONE
BEGIN:VEVENT
DTSTART;TZID=UTC:20260824T080000
DTEND;TZID=UTC:20260827T170000
DTSTAMP:20260425T163616
CREATED:20260113T174522Z
LAST-MODIFIED:20260113T174536Z
UID:3217-1787558400-1787850000@www.shootatsafefire.com
SUMMARY:PHALANX ACADEMY - HANDGUN MOD 1 & 2
DESCRIPTION:Join Phalanx Academy’s Defensive Training Institute for an in-depth handgun training experience\, hosted right here at SafeFire. This two-day course series is designed to help shooters of varying experience levels strengthen their firearm fundamentals\, manipulation skills\, and marksmanship under guided instruction. \n\n\n\nOver the weekend\, participants will work through both Handgun Module I and Module II\, covering: \n\n\n\n\nFoundational handgun safety and handling\n\n\n\nFirearm terminology and selection basics\n\n\n\nMarksmanship fundamentals and manipulation techniques (reloads\, malfunctions\, etc.)\n\n\n\nPractical applications of shooting fundamentals in dynamic scenarios\n\n\n\nUse of concealment\, movement\, and performance-driven drills\n\n\n\n\nWhether you’re reinforcing core skills or building confidence behind the trigger\, this training offers structured learning from experienced instructors in a supportive environment. Rental equipment is available by advance reservation. \n\n\n\nDates:• Handgun Module I – August 24–25\, 2026• Handgun Module II – August 26–27\, 2026Cost: Module I — $550 | Module II — $575 (save 10% when you register for both) \n\n\n\nNote: This event is hosted at SafeFire but instructed and operated by Phalanx Academy. Registration and questions are handled through Phalanx.
URL:https://www.shootatsafefire.com/event/phalanx-academy-handgun-mod-1-2/
LOCATION:SafeFire Indoor Shooting Range\, 4857 NW Lake Rd Suite 210\, Camas\, Washington\, 98607
ORGANIZER;CN="Phalanx Academy":MAILTO:joe.kim@phalanx-academy.com
END:VEVENT
BEGIN:VEVENT
DTSTART;TZID=UTC:20260824T173000
DTEND;TZID=UTC:20260824T193000
DTSTAMP:20260425T163616
CREATED:20260205T184859Z
LAST-MODIFIED:20260205T184904Z
UID:3256-1787592600-1787599800@www.shootatsafefire.com
SUMMARY:PHALANX ACADEMY - HANDGUN SELECTION CLINIC
DESCRIPTION:Hosted by Phalanx Academy\, This FREE Handgun Weapon Selection clinic focuses on the practical and intentional process of choosing a pistol. Students will have hands-on exposure to objectively sound handgun options and selection crieteria in this free course. Topics include caliber considerations\, size and ergonomics\, optics\, weapon-mounted lights\, and methods of carry. \n\n\n\nAbout Phalanx Academy: \n\n\n\nPhalanx Academy is a defensive training institute dedicated to empowering responsible and vigilant lawful citizens through structured\, high-quality instruction. Their ethos centers on advancing individual skill sets to strengthen community safety\, using a methodical approach that builds fundamentals into proven performance. With measured progression from introduction to application and validation\, Phalanx ensures students gain real competence and confidence. The Academy reinvests in continuous education to keep curriculum relevant and effective and proudly provides training and certifications for military\, law enforcement\, and security professionals. \n\n\n\nNote: This event is hosted at SafeFire but instructed and operated by Phalanx Academy. Registration is free and can be purchased here or via phone.
URL:https://www.shootatsafefire.com/event/phalanx-academy-handgun-selection-clinic/
LOCATION:SafeFire Indoor Shooting Range\, 4857 NW Lake Rd Suite 210\, Camas\, Washington\, 98607
ORGANIZER;CN="Phalanx Academy":MAILTO:joe.kim@phalanx-academy.com
END:VEVENT
BEGIN:VEVENT
DTSTART;TZID=UTC:20260826T173000
DTEND;TZID=UTC:20260827T210000
DTSTAMP:20260425T163616
CREATED:20260414T215617Z
LAST-MODIFIED:20260414T215621Z
UID:3348-1787765400-1787864400@www.shootatsafefire.com
SUMMARY:PHALANX ACADEMY - Low Light
DESCRIPTION:Join Phalanx Academy’s Defensive Training Institute for an in-depth handgun training experience\, hosted right here at SafeFire. This two-day course series is designed to help shooters of varying experience levels strengthen their firearm skills in lowlight scenarios.  \n\n\n\nCase studies consistently show that the majority of violent encounters occur between 8:00 PM and 8:00 AM. Operating effectively in low-light and no-light environments requires more than basic firearm proficiency—it demands refined indexing\, automaticity\, and the ability to perform under stress without full visual confirmation. \n\n\n\nThis course is designed to provide a safe\, structured environment where students can develop and apply these critical skills in realistic conditions. \n\n\n\n\n\n\n\nCourse Topics\n\n\n\nStudents will train and develop proficiency in: \n\n\n\n\nFocal shift under stress\n\n\n\nFunctioning without sight reliance\n\n\n\nKinesthetic awareness and indexing\n\n\n\nBlind weapon manipulation\n\n\n\nFree-hand flashlight techniques\n\n\n\nWeapon-mounted light techniques\n\n\n\nUtilizing light and shadow for movement\n\n\n\nTeam movement fundamentals\n\n\n\nCover vs. concealment in low-light environments\n\n\n\nAnd more\n\n\n\n\n\n\n\n\nStudent Requirements\n\n\n\nThis is not a beginner-level course. All attendees must have a solid\, vetted understanding of firearm safety and basic manipulation prior to attending. \n\n\n\n\n\n\n\nEquipment Provided\n\n\n\n\nGlow sticks / marking devices\n\n\n\nTactical lights available upon request\n\n\n\n\n\n\n\n\nRequired Equipment\n\n\n\nFirearms & Magazines \n\n\n\n\n\n\n\n\n1 serviceable handgun (9mm / .40 / .45 ACP / 10mm)\n\n\n\nMinimum of 3 handgun magazines\n\n\n\n\nLoadout & Gear \n\n\n\n\n\n\n\n\nStrong-side OWB (outside-the-waistband) holster\n\n\n\nSupport-side OWB magazine pouch\n\n\n\nFlashlight pouch\n\n\n\n\nLighting Equipment \n\n\n\n\nHandheld (free-hand) flashlight\n\n\n\nPistol-mounted flashlight (optional)\n\n\n\n\nProtective Equipment \n\n\n\n\nEye protection\n\n\n\nHearing protection (electronic highly recommended)\n\n\n\n\nSupport Equipment \n\n\n\n\nSpare batteries (lights\, hearing protection\, etc.)\n\n\n\nTools for maintaining/servicing equipment\n\n\n\n\nRecommended Gear \n\n\n\n\nGloves\n\n\n\nElbow pads\n\n\n\nKnee pads (highly recommended)\n\n\n\n\n \n\n\n\nDates:• Low Light Handgun Night 1 – August 26\, 2026 5:30PM – 9:00PM• Low Light Handgun Night 2 – August 27\, 2026 5:30PM – 9:00PM$325 I 2 Day Course I 500 handgun \n\n\n\nNote: This event is hosted at SafeFire but instructed and operated by Phalanx Academy. Registration and questions are handled through Phalanx.
URL:https://www.shootatsafefire.com/event/phalanx-academy-low-light/
LOCATION:SafeFire Indoor Shooting Range\, 4857 NW Lake Rd Suite 210\, Camas\, Washington\, 98607
ORGANIZER;CN="Phalanx Academy":MAILTO:joe.kim@phalanx-academy.com
END:VEVENT
END:VCALENDAR