BEGIN:VCALENDAR
VERSION:2.0
PRODID:-//SafeFire - ECPv6.15.20//NONSGML v1.0//EN
CALSCALE:GREGORIAN
METHOD:PUBLISH
X-WR-CALNAME:SafeFire
X-ORIGINAL-URL:https://www.shootatsafefire.com
X-WR-CALDESC:Events for SafeFire
REFRESH-INTERVAL;VALUE=DURATION:PT1H
X-Robots-Tag:noindex
X-PUBLISHED-TTL:PT1H
BEGIN:VTIMEZONE
TZID:UTC
BEGIN:STANDARD
TZOFFSETFROM:+0000
TZOFFSETTO:+0000
TZNAME:UTC
DTSTART:20240101T000000
END:STANDARD
END:VTIMEZONE
BEGIN:VEVENT
DTSTART;TZID=UTC:20250621T150000
DTEND;TZID=UTC:20250621T180000
DTSTAMP:20260425T195219
CREATED:20250128T223922Z
LAST-MODIFIED:20250128T223927Z
UID:2385-1750518000-1750528800@www.shootatsafefire.com
SUMMARY:From the Holster Move & Shoot
DESCRIPTION:Competitors will draw from their holsters and engage four target arrays: a Texas Star\, a plate rack\, IPSC targets\, and hanging targets. Each participant will complete three timed runs\, with the longest time being discarded. The best two times will be combined to determine the final score. \n\n\n\nGiven the use of the Texas Star\, frangible ammunition is required for this competition. To ensure compliance\, competitors must purchase frangible ammunition from SafeFire at the time of the event. \n\n\n\nThis competition is limited to handguns chambered in 9mm. Additionally\, competitors are advised against using firearms equipped with compensators\, as these have been known to cause malfunctions when using frangible ammunition. \n\n\n\nA holster qualification is required for participation. Participants who need to obtain this qualification will receive a 50% discount upon registration for the competition.
URL:https://www.shootatsafefire.com/event/from-the-holster-move-shoot/
LOCATION:SafeFire Indoor Shooting Range\, 4857 NW Lake Rd Suite 210\, Camas\, Washington\, 98607
CATEGORIES:Competition
END:VEVENT
END:VCALENDAR